BEGIN:VCALENDAR
VERSION:2.0
PRODID:-//Jeanette M. Williams, MD - ECPv5.2.1//NONSGML v1.0//EN
CALSCALE:GREGORIAN
METHOD:PUBLISH
X-WR-CALNAME:Jeanette M. Williams, MD
X-ORIGINAL-URL:http://jwilliamsmd.com
X-WR-CALDESC:Events for Jeanette M. Williams, MD
BEGIN:VTIMEZONE
TZID:America/Los_Angeles
BEGIN:DAYLIGHT
TZOFFSETFROM:-0800
TZOFFSETTO:-0700
TZNAME:PDT
DTSTART:20180311T100000
END:DAYLIGHT
BEGIN:STANDARD
TZOFFSETFROM:-0700
TZOFFSETTO:-0800
TZNAME:PST
DTSTART:20181104T090000
END:STANDARD
END:VTIMEZONE
BEGIN:VEVENT
DTSTART;TZID=America/Los_Angeles:20181018T100000
DTEND;TZID=America/Los_Angeles:20181018T120000
DTSTAMP:20260424T024303
CREATED:20180914T171837Z
LAST-MODIFIED:20180914T210845Z
UID:193-1539856800-1539864000@jwilliamsmd.com
SUMMARY:Flu Shots
DESCRIPTION:Smiths Pharmacy is hosting a few Flu Shot days soon! Be sure to not miss the opportunity to get your flu shot. Reach out to Smiths Pharmacy for more details. \n* if you have medicare\, be sure to present your card \nUp coming days: \nOctober 18th from 10-12pm \nOctober 29th 10-12pm
URL:http://jwilliamsmd.com/event/flu-shots-2/
LOCATION:Smith’s Pharmacy\, 1390 Railroad Ave\, St. Helena\, 94574\, United States
CATEGORIES:Recurring Events,Upcoming Events
ATTACH;FMTTYPE=image/png:http://jwilliamsmd.com/wp-content/uploads/2018/09/flu-vaccine-mandate.png
END:VEVENT
END:VCALENDAR