BEGIN:VCALENDAR
VERSION:2.0
PRODID:-//Jeanette M. Williams, MD - ECPv5.2.1//NONSGML v1.0//EN
CALSCALE:GREGORIAN
METHOD:PUBLISH
X-WR-CALNAME:Jeanette M. Williams, MD
X-ORIGINAL-URL:http://jwilliamsmd.com
X-WR-CALDESC:Events for Jeanette M. Williams, MD
BEGIN:VTIMEZONE
TZID:UTC
BEGIN:STANDARD
TZOFFSETFROM:+0000
TZOFFSETTO:+0000
TZNAME:UTC
DTSTART:20180101T000000
END:STANDARD
END:VTIMEZONE
BEGIN:VEVENT
DTSTART;TZID=UTC:20181026T000000
DTEND;TZID=UTC:20181026T010000
DTSTAMP:20260424T024709
CREATED:20181024T003020Z
LAST-MODIFIED:20181024T003021Z
UID:243-1540512000-1540515600@jwilliamsmd.com
SUMMARY:Spry\, Wise & Fit: Focus Foward
DESCRIPTION:A restorative movement class to promote strength\, flexibility\, stamina and balance. Physical Therapists led class designed to help you achieve your optimal level of wellness & function. 
URL:http://jwilliamsmd.com/event/spry-wise-fit-focus-foward/
LOCATION:Focus Forward\, 2436 Foothill Blvd Suite C\, Calistoga\, California\, 94515\, United States
CATEGORIES:Recurring Events
END:VEVENT
END:VCALENDAR